BEGIN:VCALENDAR
VERSION:2.0
PRODID:-//Novus Renaissance - ECPv5.3.2.1//NONSGML v1.0//EN
CALSCALE:GREGORIAN
METHOD:PUBLISH
X-WR-CALNAME:Novus Renaissance
X-ORIGINAL-URL:https://novusrenaissance.com
X-WR-CALDESC:Events for Novus Renaissance
BEGIN:VTIMEZONE
TZID:America/New_York
BEGIN:DAYLIGHT
TZOFFSETFROM:-0500
TZOFFSETTO:-0400
TZNAME:EDT
DTSTART:20210314T070000
END:DAYLIGHT
BEGIN:STANDARD
TZOFFSETFROM:-0400
TZOFFSETTO:-0500
TZNAME:EST
DTSTART:20211107T060000
END:STANDARD
END:VTIMEZONE
BEGIN:VEVENT
DTSTART;TZID=America/New_York:20211223T110000
DTEND;TZID=America/New_York:20211223T110000
DTSTAMP:20260425T004639
CREATED:20211014T153456Z
LAST-MODIFIED:20211127T162739Z
UID:2908-1640257200-1640257200@novusrenaissance.com
SUMMARY:Civilization Ex's Trinity Vid Series of Dor Vahdor 3 of 3
DESCRIPTION:The Epic Conclusion! Novus Renaissance joins forces with the CivilizationEx YouTube Creator to bring the Phandom a Trinity (3 Part) Video Series. It is recommended that you watch the first two parts before viewing. This third video in the trinity will be Civ Ex’s part 2 of our book’s “Great War In Heaven” focus. Check it out if you missed the first video and second videos (Civ Ex’s 10 Ten Favorite moments of Volume 1\, and the “Great War In Heaven Part I”). The event will be updated with the specific link\, date\, and time so join the event and stay tuned.
URL:https://novusrenaissance.com/event/civilization-exs-trinity-vid-series-of-dor-vahdor-3-of-3/
ATTACH;FMTTYPE=image/jpeg:https://novusrenaissance.com/wp-content/uploads/238778546_427889005574589_6405940747961370644_n-scaled.jpg
END:VEVENT
END:VCALENDAR